BEGIN:VCALENDAR
VERSION:2.0
PRODID:-//New Jersey Intergovernmental Insurance Fund - ECPv6.6.4.2//NONSGML v1.0//EN
CALSCALE:GREGORIAN
METHOD:PUBLISH
X-WR-CALNAME:New Jersey Intergovernmental Insurance Fund
X-ORIGINAL-URL:https://njiif.org
X-WR-CALDESC:Events for New Jersey Intergovernmental Insurance Fund
REFRESH-INTERVAL;VALUE=DURATION:PT1H
X-Robots-Tag:noindex
X-PUBLISHED-TTL:PT1H
BEGIN:VTIMEZONE
TZID:UTC
BEGIN:STANDARD
TZOFFSETFROM:+0000
TZOFFSETTO:+0000
TZNAME:UTC
DTSTART:20250101T000000
END:STANDARD
END:VTIMEZONE
BEGIN:VEVENT
DTSTART;TZID=UTC:20251210T100000
DTEND;TZID=UTC:20251210T113000
DTSTAMP:20260424T115332
CREATED:20250109T200508Z
LAST-MODIFIED:20251117T183017Z
UID:3465-1765360800-1765366200@njiif.org
SUMMARY:NJIIF Regular Meeting
DESCRIPTION:NJIIF Open Session VIA ZOOM VIDEO CONFERENCE and in-person at the North Jersey Country Club\, 594 Hamburg Turnpike\, Wayne\, NJ \nThe NJIIF Meeting can be accessed using the following Zoom link: \nTopic: NJIIF Executive Board Meeting Open Session\nJoin Zoom Meeting\nhttps://us06web.zoom.us/j/89224183463?pwd=akpQQy9GYlRRQmtvMERhZlU4Y0lpUT09 \nMeeting ID: 892 2418 3463\nPasscode: 891689 \n— \nOne tap mobile\n+13052241968\,\,89224183463#\,\,\,\,*891689# US\n+13092053325\,\,89224183463#\,\,\,\,*891689# US \n— \nDial by your location\n• +1 305 224 1968 US\n• +1 309 205 3325 US\n• +1 312 626 6799 US (Chicago)\n• +1 646 931 3860 US\n• +1 929 205 6099 US (New York)\n• +1 301 715 8592 US (Washington DC)\n• +1 360 209 5623 US\n• +1 386 347 5053 US\n• +1 507 473 4847 US\n• +1 564 217 2000 US\n• +1 669 444 9171 US\n• +1 669 900 6833 US (San Jose)\n• +1 689 278 1000 US\n• +1 719 359 4580 US\n• +1 253 205 0468 US\n• +1 253 215 8782 US (Tacoma)\n• +1 346 248 7799 US (Houston) \nMeeting ID: 892 2418 3463\nPasscode: 891689 \nFind your local number: https://us06web.zoom.us/u/kcZ0C2JYlG
URL:https://njiif.org/event/njiif-regular-meeting-24/
END:VEVENT
BEGIN:VEVENT
DTSTART;TZID=UTC:20251218T090000
DTEND;TZID=UTC:20251218T093000
DTSTAMP:20260424T115332
CREATED:20251215T213050Z
LAST-MODIFIED:20251215T213114Z
UID:3541-1766048400-1766050200@njiif.org
SUMMARY:NJIIF Special Executive Board Meeting
DESCRIPTION:The NJIIF Meeting can be accessed using the following Zoom link: Topic: NJIIF Executive Board Meeting Open Session Join Zoom Meeting https://us06web.zoom.us/j/89224183463?pwd=akpQQy9GYlRRQmtvMERhZlU4Y0lpUT09 Meeting ID: 892 2418 3463 Passcode: 891689 — One tap mobile +13052241968\,\,89224183463#\,\,\,\,*891689# US +13092053325\,\,89224183463#\,\,\,\,*891689# US — Dial by your location • +1 305 224 1968 US • +1 309 205 3325 US • +1 312 626 6799 US (Chicago) • +1 646 931 3860 US • +1 929 205 6099 US (New York) • +1 301 715 8592 US (Washington DC) • +1 360 209 5623 US • +1 386 347 5053 US • +1 507 473 4847 US • +1 564 217 2000 US • +1 669 444 9171 US • +1 669 900 6833 US (San Jose) • +1 689 278 1000 US • +1 719 359 4580 US • +1 253 205 0468 US • +1 253 215 8782 US (Tacoma) • +1 346 248 7799 US (Houston) Meeting ID: 892 2418 3463 Passcode: 891689 Find your local number: https://us06web.zoom.us/u/kcZ0C2JYlG
URL:https://njiif.org/event/njiif-special-executive-board-meeting-2/
END:VEVENT
BEGIN:VEVENT
DTSTART;TZID=UTC:20251230T100000
DTEND;TZID=UTC:20251230T113000
DTSTAMP:20260424T115332
CREATED:20250109T200328Z
LAST-MODIFIED:20251226T170553Z
UID:3464-1767088800-1767094200@njiif.org
SUMMARY:NJIIF Executive Board Meeting
DESCRIPTION:Open Session \nVIA ZOOM VIDEO CONFERENCE \nTopic: NJIIF Executive Board Meeting – Open Session \nJoin Zoom Meeting \nhttps://us06web.zoom.us/j/84997110834?pwd=nHH4SfYnvQDiGqkGOnz4qdkJd01tmD.1 \n  \nMeeting ID: 849 9711 0834 \nPasscode: 342164 \n  \nDial by your location \n\n+1 305 224 1968 US\n+1 929 205 6099 US (New York)\n\nFind your local number: https://us06web.zoom.us/u/kbFhSSTuee
URL:https://njiif.org/event/njiif-regular-meeting-23/
END:VEVENT
BEGIN:VEVENT
DTSTART;TZID=UTC:20251231T170000
DTEND;TZID=UTC:20251231T173000
DTSTAMP:20260424T115332
CREATED:20251231T180003Z
LAST-MODIFIED:20251231T180003Z
UID:3551-1767200400-1767202200@njiif.org
SUMMARY:NJIIF Special Meeting
DESCRIPTION:In accordance with the Open Public Meeting Act\, N.J.S.A. 10:4-6\, et seq.\, notice is hereby given that the New Jersey Intergovernmental Insurance Fund will hold an emergency Meeting to be held on December 31\, 2025 at 5:00pm via Zoom video and audio conference at 10:00am; details for accessing the meeting are posted at https://njiif.org/events/list/. \nOpen Session \nVIA ZOOM VIDEO CONFERENCE \nTopic: NJIIF Executive Board Meeting – Open Session \nJoin Zoom Meeting \nhttps://us06web.zoom.us/j/84997110834?pwd=nHH4SfYnvQDiGqkGOnz4qdkJd01tmD.1 \n  \nMeeting ID: 849 9711 0834 \nPasscode: 342164 \n  \nDial by your location \n\n+1 305 224 1968 US\n+1 929 205 6099 US (New York)\n\nFind your local number: https://us06web.zoom.us/u/kbFhSSTuee
URL:https://njiif.org/event/njiif-special-meeting-3/
END:VEVENT
END:VCALENDAR