BEGIN:VCALENDAR
VERSION:2.0
PRODID:-//New Jersey Intergovernmental Insurance Fund - ECPv6.6.4.2//NONSGML v1.0//EN
CALSCALE:GREGORIAN
METHOD:PUBLISH
X-WR-CALNAME:New Jersey Intergovernmental Insurance Fund
X-ORIGINAL-URL:https://njiif.org
X-WR-CALDESC:Events for New Jersey Intergovernmental Insurance Fund
REFRESH-INTERVAL;VALUE=DURATION:PT1H
X-Robots-Tag:noindex
X-PUBLISHED-TTL:PT1H
BEGIN:VTIMEZONE
TZID:UTC
BEGIN:STANDARD
TZOFFSETFROM:+0000
TZOFFSETTO:+0000
TZNAME:UTC
DTSTART:20230101T000000
END:STANDARD
TZID:America/New_York
BEGIN:DAYLIGHT
TZOFFSETFROM:-0500
TZOFFSETTO:-0400
TZNAME:EDT
DTSTART:20230312T070000
END:DAYLIGHT
BEGIN:STANDARD
TZOFFSETFROM:-0400
TZOFFSETTO:-0500
TZNAME:EST
DTSTART:20231105T060000
END:STANDARD
END:VTIMEZONE
BEGIN:VEVENT
DTSTART;TZID=UTC:20250108T100000
DTEND;TZID=UTC:20250108T120000
DTSTAMP:20260421T035427
CREATED:20241223T201655Z
LAST-MODIFIED:20241223T201655Z
UID:3442-1736330400-1736337600@njiif.org
SUMMARY:NJIIF 2025 Reorganization Meeting
DESCRIPTION:Open Session \nVIA ZOOM VIDEO CONFERENCE \nVia the internet\, please click the link below to join the meeting: \nhttps://us06web.zoom.us/j/89224183463?pwd=akpQQy9GYlRRQmtvMERhZlU4Y0lpUT09 \nMeeting ID: 892 2418 3463 \nPasscode: 891689 \nOne tap mobile \n+13052241968\,\,89224183463#\,\,\,\,*891689# US \n+13092053325\,\,89224183463#\,\,\,\,*891689# US
URL:https://njiif.org/event/njiif-2025-reorganization-meeting/
END:VEVENT
BEGIN:VEVENT
DTSTART;TZID=UTC:20241230T100000
DTEND;TZID=UTC:20241230T103000
DTSTAMP:20260421T035427
CREATED:20241227T212223Z
LAST-MODIFIED:20241227T212223Z
UID:3446-1735552800-1735554600@njiif.org
SUMMARY:NJIIF Special Executive Board Meeting
DESCRIPTION:Open Session \nVIA ZOOM VIDEO CONFERENCE \nVia the internet\, please click the link below to join the meeting: \nhttps://us06web.zoom.us/j/89224183463?pwd=akpQQy9GYlRRQmtvMERhZlU4Y0lpUT09 \nMeeting ID: 892 2418 3463 \nPasscode: 891689 \nOne tap mobile \n+13052241968\,\,89224183463#\,\,\,\,*891689# US \n+13092053325\,\,89224183463#\,\,\,\,*891689# US
URL:https://njiif.org/event/njiif-special-executive-board-meeting/
END:VEVENT
BEGIN:VEVENT
DTSTART;TZID=UTC:20241227T100000
DTEND;TZID=UTC:20241227T120000
DTSTAMP:20260421T035427
CREATED:20241223T202413Z
LAST-MODIFIED:20241223T202413Z
UID:3444-1735293600-1735300800@njiif.org
SUMMARY:NJIIF Regular Meeting - End of Year
DESCRIPTION:Open Session \nVIA ZOOM VIDEO CONFERENCE \nVia the internet\, please click the link below to join the meeting: \nhttps://us06web.zoom.us/j/89224183463?pwd=akpQQy9GYlRRQmtvMERhZlU4Y0lpUT09 \nMeeting ID: 892 2418 3463 \nPasscode: 891689 \nOne tap mobile \n+13052241968\,\,89224183463#\,\,\,\,*891689# US \n+13092053325\,\,89224183463#\,\,\,\,*891689# US \n  \nClosed Session \nVIA ZOOM VIDEO CONFERENCE \nJoin Zoom Meeting \nhttps://us06web.zoom.us/j/83324865697?pwd=OVgxRTdjVll6b09zNkxHdHFwMmRrUT09 \nMeeting ID: 833 2486 5697 \nPasscode: 715787 \n+19292056099\,\,83324865697#\,\,\,\,*715787# US (New York) \n+13017158592\,\,83324865697#\,\,\,\,*715787# US
URL:https://njiif.org/event/njiif-regular-meeting-end-of-year-2/
END:VEVENT
BEGIN:VEVENT
DTSTART;TZID=UTC:20241211T100000
DTEND;TZID=UTC:20241211T120000
DTSTAMP:20260421T035427
CREATED:20240104T165249Z
LAST-MODIFIED:20241206T214433Z
UID:3374-1733911200-1733918400@njiif.org
SUMMARY:NJIIF Regular Meeting
DESCRIPTION:NJIIF Open Session \nVIA ZOOM VIDEO CONFERENCE and in-person at the North Jersey Country Club\, 594 Hamburg Turnpike\, Wayne\, NJ \nVia the internet\, please click the Zoom link below to join the meeting: \nhttps://us06web.zoom.us/j/89224183463?pwd=akpQQy9GYlRRQmtvMERhZlU4Y0lpUT09 \nMeeting ID: 892 2418 3463 \nPasscode: 891689 \nOne tap mobile \n+13052241968\,\,89224183463#\,\,\,\,*891689# US \n+13092053325\,\,89224183463#\,\,\,\,*891689# US
URL:https://njiif.org/event/njiif-regular-meeting-12/
END:VEVENT
BEGIN:VEVENT
DTSTART;TZID=UTC:20241126T141500
DTEND;TZID=UTC:20241126T150000
DTSTAMP:20260421T035427
CREATED:20241122T163004Z
LAST-MODIFIED:20241122T163004Z
UID:3435-1732630500-1732633200@njiif.org
SUMMARY:NJIIF Special Meeting
DESCRIPTION:VIA ZOOM VIDEO CONFERENCE \nVia the internet\, please click the link below to join the meeting: \nhttps://us06web.zoom.us/j/89224183463?pwd=akpQQy9GYlRRQmtvMERhZlU4Y0lpUT09 \nMeeting ID: 892 2418 3463 \nPasscode: 891689 \nOne tap mobile \n+13052241968\,\,89224183463#\,\,\,\,*891689# US \n+13092053325\,\,89224183463#\,\,\,\,*891689# US
URL:https://njiif.org/event/njiif-special-meeting-2/
END:VEVENT
BEGIN:VEVENT
DTSTART;TZID=UTC:20241113T093000
DTEND;TZID=UTC:20241113T100000
DTSTAMP:20260421T035427
CREATED:20241111T183747Z
LAST-MODIFIED:20241111T183747Z
UID:3428-1731490200-1731492000@njiif.org
SUMMARY:NJIIF Special Meeting
DESCRIPTION:November 13 @ 9:30 am – 10:00 am\n\n\n\nNJIIF Open Session \nVIA ZOOM VIDEO CONFERENCE \nVia the internet\, please click the link below to join the meeting: \nhttps://us06web.zoom.us/j/89224183463?pwd=akpQQy9GYlRRQmtvMERhZlU4Y0lpUT09 \nMeeting ID: 892 2418 3463 \nPasscode: 891689 \nOne tap mobile \n+13052241968\,\,89224183463#\,\,\,\,*891689# US \n+13092053325\,\,89224183463#\,\,\,\,*891689# US
URL:https://njiif.org/event/njiif-special-meeting/
END:VEVENT
BEGIN:VEVENT
DTSTART;TZID=UTC:20241106T100000
DTEND;TZID=UTC:20241106T120000
DTSTAMP:20260421T035427
CREATED:20240104T165210Z
LAST-MODIFIED:20240104T165210Z
UID:3373-1730887200-1730894400@njiif.org
SUMMARY:NJIIF Regular Meeting
DESCRIPTION:NJIIF Open Session \nVIA ZOOM VIDEO CONFERENCE \nVia the internet\, please click the link below to join the meeting: \nhttps://us06web.zoom.us/j/89224183463?pwd=akpQQy9GYlRRQmtvMERhZlU4Y0lpUT09 \nMeeting ID: 892 2418 3463 \nPasscode: 891689 \nOne tap mobile \n+13052241968\,\,89224183463#\,\,\,\,*891689# US \n+13092053325\,\,89224183463#\,\,\,\,*891689# US
URL:https://njiif.org/event/njiif-regular-meeting-11/
END:VEVENT
BEGIN:VEVENT
DTSTART;TZID=UTC:20241023T100000
DTEND;TZID=UTC:20241023T120000
DTSTAMP:20260421T035427
CREATED:20240104T165131Z
LAST-MODIFIED:20240104T165131Z
UID:3372-1729677600-1729684800@njiif.org
SUMMARY:NJIIF Regular Meeting
DESCRIPTION:NJIIF Open Session \nVIA ZOOM VIDEO CONFERENCE \nVia the internet\, please click the link below to join the meeting: \nhttps://us06web.zoom.us/j/89224183463?pwd=akpQQy9GYlRRQmtvMERhZlU4Y0lpUT09 \nMeeting ID: 892 2418 3463 \nPasscode: 891689 \nOne tap mobile \n+13052241968\,\,89224183463#\,\,\,\,*891689# US \n+13092053325\,\,89224183463#\,\,\,\,*891689# US
URL:https://njiif.org/event/njiif-regular-meeting-10/
END:VEVENT
BEGIN:VEVENT
DTSTART;TZID=UTC:20240925T100000
DTEND;TZID=UTC:20240925T120000
DTSTAMP:20260421T035427
CREATED:20240104T165051Z
LAST-MODIFIED:20240104T165051Z
UID:3371-1727258400-1727265600@njiif.org
SUMMARY:NJIIF Regular Meeting
DESCRIPTION:NJIIF Open Session \nVIA ZOOM VIDEO CONFERENCE \nVia the internet\, please click the link below to join the meeting: \nhttps://us06web.zoom.us/j/89224183463?pwd=akpQQy9GYlRRQmtvMERhZlU4Y0lpUT09 \nMeeting ID: 892 2418 3463 \nPasscode: 891689 \nOne tap mobile \n+13052241968\,\,89224183463#\,\,\,\,*891689# US \n+13092053325\,\,89224183463#\,\,\,\,*891689# US
URL:https://njiif.org/event/njiif-regular-meeting-9/
END:VEVENT
BEGIN:VEVENT
DTSTART;TZID=UTC:20240807T100000
DTEND;TZID=UTC:20240807T120000
DTSTAMP:20260421T035427
CREATED:20240104T165009Z
LAST-MODIFIED:20240104T165009Z
UID:3370-1723024800-1723032000@njiif.org
SUMMARY:NJIIF Regular Meeting
DESCRIPTION:NJIIF Open Session \nVIA ZOOM VIDEO CONFERENCE \nVia the internet\, please click the link below to join the meeting: \nhttps://us06web.zoom.us/j/89224183463?pwd=akpQQy9GYlRRQmtvMERhZlU4Y0lpUT09 \nMeeting ID: 892 2418 3463 \nPasscode: 891689 \nOne tap mobile \n+13052241968\,\,89224183463#\,\,\,\,*891689# US \n+13092053325\,\,89224183463#\,\,\,\,*891689# US
URL:https://njiif.org/event/njiif-regular-meeting-8/
END:VEVENT
BEGIN:VEVENT
DTSTART;TZID=UTC:20240626T100000
DTEND;TZID=UTC:20240626T120000
DTSTAMP:20260421T035427
CREATED:20240104T164926Z
LAST-MODIFIED:20240104T164926Z
UID:3369-1719396000-1719403200@njiif.org
SUMMARY:NJIIF Regular Meeting
DESCRIPTION:NJIIF Open Session \nVIA ZOOM VIDEO CONFERENCE \nVia the internet\, please click the link below to join the meeting: \nhttps://us06web.zoom.us/j/89224183463?pwd=akpQQy9GYlRRQmtvMERhZlU4Y0lpUT09 \nMeeting ID: 892 2418 3463 \nPasscode: 891689 \nOne tap mobile \n+13052241968\,\,89224183463#\,\,\,\,*891689# US \n+13092053325\,\,89224183463#\,\,\,\,*891689# US
URL:https://njiif.org/event/njiif-regular-meeting-7/
END:VEVENT
BEGIN:VEVENT
DTSTART;TZID=UTC:20240522T100000
DTEND;TZID=UTC:20240522T120000
DTSTAMP:20260421T035427
CREATED:20240104T164847Z
LAST-MODIFIED:20240104T164847Z
UID:3368-1716372000-1716379200@njiif.org
SUMMARY:NJIIF Regular Meeting
DESCRIPTION:NJIIF Open Session \nVIA ZOOM VIDEO CONFERENCE \nVia the internet\, please click the link below to join the meeting: \nhttps://us06web.zoom.us/j/89224183463?pwd=akpQQy9GYlRRQmtvMERhZlU4Y0lpUT09 \nMeeting ID: 892 2418 3463 \nPasscode: 891689 \nOne tap mobile \n+13052241968\,\,89224183463#\,\,\,\,*891689# US \n+13092053325\,\,89224183463#\,\,\,\,*891689# US
URL:https://njiif.org/event/njiif-regular-meeting-6/
END:VEVENT
BEGIN:VEVENT
DTSTART;TZID=UTC:20240424T100000
DTEND;TZID=UTC:20240424T120000
DTSTAMP:20260421T035427
CREATED:20240104T164811Z
LAST-MODIFIED:20240104T164811Z
UID:3367-1713952800-1713960000@njiif.org
SUMMARY:NJIIF Regular Meeting
DESCRIPTION:NJIIF Open Session \nVIA ZOOM VIDEO CONFERENCE \nVia the internet\, please click the link below to join the meeting: \nhttps://us06web.zoom.us/j/89224183463?pwd=akpQQy9GYlRRQmtvMERhZlU4Y0lpUT09 \nMeeting ID: 892 2418 3463 \nPasscode: 891689 \nOne tap mobile \n+13052241968\,\,89224183463#\,\,\,\,*891689# US \n+13092053325\,\,89224183463#\,\,\,\,*891689# US
URL:https://njiif.org/event/njiif-regular-meeting-5/
END:VEVENT
BEGIN:VEVENT
DTSTART;TZID=UTC:20240327T100000
DTEND;TZID=UTC:20240327T120000
DTSTAMP:20260421T035427
CREATED:20240104T164716Z
LAST-MODIFIED:20240104T164716Z
UID:3366-1711533600-1711540800@njiif.org
SUMMARY:NJIIF Regular Meeting
DESCRIPTION:NJIIF Open Session \nVIA ZOOM VIDEO CONFERENCE \nVia the internet\, please click the link below to join the meeting: \nhttps://us06web.zoom.us/j/89224183463?pwd=akpQQy9GYlRRQmtvMERhZlU4Y0lpUT09 \nMeeting ID: 892 2418 3463 \nPasscode: 891689 \nOne tap mobile \n+13052241968\,\,89224183463#\,\,\,\,*891689# US \n+13092053325\,\,89224183463#\,\,\,\,*891689# US
URL:https://njiif.org/event/njiif-regular-meeting-4/
END:VEVENT
BEGIN:VEVENT
DTSTART;TZID=UTC:20240228T100000
DTEND;TZID=UTC:20240228T120000
DTSTAMP:20260421T035427
CREATED:20240104T164300Z
LAST-MODIFIED:20240116T135827Z
UID:3365-1709114400-1709121600@njiif.org
SUMMARY:NJIIF Regular Meeting
DESCRIPTION:NJIIF Open Session \nVIA ZOOM VIDEO CONFERENCE \nVia the internet\, please click the link below to join the meeting: \nhttps://us06web.zoom.us/j/89224183463?pwd=akpQQy9GYlRRQmtvMERhZlU4Y0lpUT09 \nMeeting ID: 892 2418 3463 \nPasscode: 891689 \nOne tap mobile \n+13052241968\,\,89224183463#\,\,\,\,*891689# US \n+13092053325\,\,89224183463#\,\,\,\,*891689# US
URL:https://njiif.org/event/njiif-regular-meeting-3/
END:VEVENT
BEGIN:VEVENT
DTSTART;TZID=UTC:20240124T100000
DTEND;TZID=UTC:20240124T120000
DTSTAMP:20260421T035427
CREATED:20231229T164041Z
LAST-MODIFIED:20240104T164014Z
UID:3358-1706090400-1706097600@njiif.org
SUMMARY:NJIIF Regular Meeting
DESCRIPTION:NJIIF Open Session \nVIA ZOOM VIDEO CONFERENCE \nVia the internet\, please click the link below to join the meeting: \nhttps://us06web.zoom.us/j/89224183463?pwd=akpQQy9GYlRRQmtvMERhZlU4Y0lpUT09 \nMeeting ID: 892 2418 3463 \nPasscode: 891689 \nOne tap mobile \n+13052241968\,\,89224183463#\,\,\,\,*891689# US \n+13092053325\,\,89224183463#\,\,\,\,*891689# US
URL:https://njiif.org/event/njiif-regular-meeting-2/
END:VEVENT
BEGIN:VEVENT
DTSTART;TZID=UTC:20240104T100000
DTEND;TZID=UTC:20240104T120000
DTSTAMP:20260421T035427
CREATED:20231229T163654Z
LAST-MODIFIED:20231229T163836Z
UID:3356-1704362400-1704369600@njiif.org
SUMMARY:NJIIF Reorganization Meeting
DESCRIPTION:Open Session \nVIA ZOOM VIDEO CONFERENCE \nVia the internet\, please click the link below to join the meeting: \nhttps://us06web.zoom.us/j/89224183463?pwd=akpQQy9GYlRRQmtvMERhZlU4Y0lpUT09 \nMeeting ID: 892 2418 3463 \nPasscode: 891689 \nOne tap mobile \n+13052241968\,\,89224183463#\,\,\,\,*891689# US \n+13092053325\,\,89224183463#\,\,\,\,*891689# US
URL:https://njiif.org/event/njiif-regular-meeting/
END:VEVENT
BEGIN:VEVENT
DTSTART;TZID=UTC:20231229T100000
DTEND;TZID=UTC:20231229T120000
DTSTAMP:20260421T035427
CREATED:20230518T222042Z
LAST-MODIFIED:20231227T204838Z
UID:3269-1703844000-1703851200@njiif.org
SUMMARY:NJIIF Meeting
DESCRIPTION:Open Session of the New Jersey Intergovernmental Insurance Fund \nVIA ZOOM VIDEO CONFERENCE \nVia the internet\, please click the link below to join the meeting: \nhttps://us06web.zoom.us/j/89224183463?pwd=akpQQy9GYlRRQmtvMERhZlU4Y0lpUT09 \nMeeting ID: 892 2418 3463 \nPasscode: 891689 \nOne tap mobile \n+13052241968\,\,89224183463#\,\,\,\,*891689# US \n+13092053325\,\,89224183463#\,\,\,\,*891689# US
URL:https://njiif.org/event/njiif-meeting-9/
END:VEVENT
BEGIN:VEVENT
DTSTART;VALUE=DATE:20231214
DTEND;VALUE=DATE:20231215
DTSTAMP:20260421T035427
CREATED:20230518T222022Z
LAST-MODIFIED:20230518T222022Z
UID:3268-1702512000-1702598399@njiif.org
SUMMARY:NJIIF Meeting
DESCRIPTION:
URL:https://njiif.org/event/njiif-meeting-8/
END:VEVENT
BEGIN:VEVENT
DTSTART;VALUE=DATE:20231109
DTEND;VALUE=DATE:20231110
DTSTAMP:20260421T035427
CREATED:20230518T222010Z
LAST-MODIFIED:20230519T192712Z
UID:3267-1699488000-1699574399@njiif.org
SUMMARY:NJIIF Meeting
DESCRIPTION:
URL:https://njiif.org/event/njiif-meeting-7/
END:VEVENT
BEGIN:VEVENT
DTSTART;VALUE=DATE:20231026
DTEND;VALUE=DATE:20231027
DTSTAMP:20260421T035427
CREATED:20230518T221957Z
LAST-MODIFIED:20230518T221957Z
UID:3266-1698278400-1698364799@njiif.org
SUMMARY:NJIIF Meeting
DESCRIPTION:
URL:https://njiif.org/event/njiif-meeting-6/
END:VEVENT
BEGIN:VEVENT
DTSTART;VALUE=DATE:20230928
DTEND;VALUE=DATE:20230929
DTSTAMP:20260421T035427
CREATED:20230518T221944Z
LAST-MODIFIED:20230518T221944Z
UID:3265-1695859200-1695945599@njiif.org
SUMMARY:NJIIF Meeting
DESCRIPTION:
URL:https://njiif.org/event/njiif-meeting-5/
END:VEVENT
BEGIN:VEVENT
DTSTART;TZID=UTC:20230810T100000
DTEND;TZID=UTC:20230810T123000
DTSTAMP:20260421T035427
CREATED:20230518T221930Z
LAST-MODIFIED:20230808T211055Z
UID:3264-1691661600-1691670600@njiif.org
SUMMARY:NJIIF August Executive Board Meeting
DESCRIPTION:August NJIIF Executive Board Meeting \nAugust 10\, 2023\n10:00am \nTo participate via Zoom\, please click the link below:\nNJIIF August Executive Board Meeting \nMeeting ID: 892 2418 3463\nPasscode: 891689\nDial In: 305-224-1968 \nAugust 10\, 2023 Meeting Agenda
URL:https://njiif.org/event/njiif-meeting-4/
ORGANIZER;CN="Nancy DiMartino":MAILTO:dimartino@njiif.org
END:VEVENT
BEGIN:VEVENT
DTSTART;TZID=America/New_York:20230727T100000
DTEND;TZID=America/New_York:20230727T120000
DTSTAMP:20260421T035427
CREATED:20230518T221917Z
LAST-MODIFIED:20230721T005233Z
UID:3263-1690452000-1690459200@njiif.org
SUMMARY:NJIIF July Executive Committee Meeting
DESCRIPTION:July board meeting will be combined with August board meeting and occur on August 10\, 2023 via Zoom.  \nTo participate via Zoom\, please click the link below:\nNJIIF July Executive Board Meeting \nMeeting ID: 892 2418 3463\nPasscode: 891689\nDial In: 305-224-1968
URL:https://njiif.org/event/njiif-meeting-3/
ORGANIZER;CN="Nancy DiMartino":MAILTO:dimartino@njiif.org
END:VEVENT
BEGIN:VEVENT
DTSTART;VALUE=DATE:20230622
DTEND;VALUE=DATE:20230623
DTSTAMP:20260421T035427
CREATED:20230518T221902Z
LAST-MODIFIED:20230518T221902Z
UID:3262-1687392000-1687478399@njiif.org
SUMMARY:NJIIF Meeting
DESCRIPTION:
URL:https://njiif.org/event/njiif-meeting-2/
END:VEVENT
BEGIN:VEVENT
DTSTART;VALUE=DATE:20230525
DTEND;VALUE=DATE:20230526
DTSTAMP:20260421T035427
CREATED:20230518T221829Z
LAST-MODIFIED:20230518T221829Z
UID:3261-1684972800-1685059199@njiif.org
SUMMARY:NJIIF Meeting
DESCRIPTION:
URL:https://njiif.org/event/njiif-meeting/
END:VEVENT
END:VCALENDAR